{
 "version": 1.0,
 "tileBundlesPath": "./tile",
 "storageInfo": {
  "packetSize": 128,
  "storageFormat": "esriMapCacheStorageModeCompactV2"
 },
 "tileImageInfo": {
  "format": "PNG",
  "compressionQuality": 0,
  "bandCount": 1,
  "lercError": 0
 },
 "tileInfo": {
  "spatialReference": {
   "wkid": 102110,
   "latestWkid": 2154
  },
  "origin": {
   "x": -35597500,
   "y": 48953100
  },
  "rows": 512,
  "cols": 512,
  "dpi": 96,
  "lods": [
   {
    "level": 0,
    "resolution": 2167.47100160867,
    "scale": 8192000
   },
   {
    "level": 1,
    "resolution": 1083.735500804335,
    "scale": 4096000
   },
   {
    "level": 2,
    "resolution": 541.8677504021675,
    "scale": 2048000
   },
   {
    "level": 3,
    "resolution": 270.93387520108377,
    "scale": 1024000
   },
   {
    "level": 4,
    "resolution": 135.46693760054188,
    "scale": 512000
   },
   {
    "level": 5,
    "resolution": 67.73346880027094,
    "scale": 256000
   },
   {
    "level": 6,
    "resolution": 33.86673440013547,
    "scale": 128000
   },
   {
    "level": 7,
    "resolution": 16.933367200067735,
    "scale": 64000
   },
   {
    "level": 8,
    "resolution": 8.466683600033868,
    "scale": 32000
   },
   {
    "level": 9,
    "resolution": 4.233341800016934,
    "scale": 16000
   },
   {
    "level": 10,
    "resolution": 2.116670900008467,
    "scale": 8000
   },
   {
    "level": 11,
    "resolution": 1.0583354500042335,
    "scale": 4000
   },
   {
    "level": 12,
    "resolution": 0.5291677250021167,
    "scale": 2000
   },
   {
    "level": 13,
    "resolution": 0.26458386250105836,
    "scale": 1000
   },
   {
    "level": 14,
    "resolution": 0.13229193125052918,
    "scale": 500
   },
   {
    "level": 15,
    "resolution": 0.06614596562526459,
    "scale": 250
   },
   {
    "level": 16,
    "resolution": 0.033072982812632296,
    "scale": 125
   }
  ],
  "format": "PNG",
  "compressionQuality": 0,
  "bandCount": 1,
  "lercError": 0,
  "storageFormat": "esriMapCacheStorageModeCompactV2",
  "packetSize": 128
 },
 "name": "Ortho_2023_Voirie",
 "serviceDescription": " Ortho<\/SPAN>_2023_Voirie<\/SPAN><\/P><\/DIV><\/DIV>",
 "spatialReference": {
  "wkid": 102110,
  "latestWkid": 2154,
  "xyTolerance": 0.001,
  "zTolerance": 0.001,
  "mTolerance": 0.001,
  "falseX": -35597500,
  "falseY": -23641900,
  "xyUnits": 10000,
  "falseZ": -100000,
  "zUnits": 10000,
  "falseM": -100000,
  "mUnits": 10000
 },
 "units": "esriMeters",
 "minLOD": 0,
 "maxLOD": 16,
 "resampling": true,
 "layers": [
  {
   "id": 1,
   "name": "Orthophoto 2023 (Voirie)",
   "parentLayerId": -1,
   "defaultVisibility": true,
   "subLayerIds": null,
   "minScale": 0,
   "maxScale": 0,
   "type": "Raster Layer",
   "supportsDynamicLegends": true,
   "legend": [
    {
     "label": "Rouge :Red",
     "imageData": "iVBORw0KGgoAAAANSUhEUgAAABQAAAAUCAYAAACNiR0NAAAACXBIWXMAAA7EAAAOxAGVKw4bAAAAOklEQVQ4jWNhoDJgoZmB/8GIfMAIRrR0IbUAC9VMgoJRAykHLFQwAwWMGkg5YBnBBjJCyzOqGUgtAABgfwJTnasaYgAAAABJRU5ErkJggg==",
     "contentType": "image/png",
     "groupId": "0",
     "height": 20,
     "width": 20,
     "layerId": 1,
     "layerName": "Orthophoto 2023 (Voirie)"
    },
    {
     "label": "Vert : Green",
     "imageData": "iVBORw0KGgoAAAANSUhEUgAAABQAAAAUCAYAAACNiR0NAAAACXBIWXMAAA7EAAAOxAGVKw4bAAAAPElEQVQ4je3UoQ0AMBBCUS5h/5WvpkmDhjr+AE8gIMLxH7hYSxqMgqFY0I4+oRX0Y8CQCvq9De+f5cBQB19+AlPZl25RAAAAAElFTkSuQmCC",
     "contentType": "image/png",
     "groupId": "0",
     "height": 20,
     "width": 20,
     "layerId": 1,
     "layerName": "Orthophoto 2023 (Voirie)"
    },
    {
     "label": "Bleu : Blue",
     "imageData": "iVBORw0KGgoAAAANSUhEUgAAABQAAAAUCAYAAACNiR0NAAAACXBIWXMAAA7EAAAOxAGVKw4bAAAAPElEQVQ4jWNhoDJgoaGB//9TZhQjI5qB1AEsowZSDFgoNwIVjBpIOWChghkoYNRAygFSGELKMyoaSB0AAF59AlO8NYpcAAAAAElFTkSuQmCC",
     "contentType": "image/png",
     "groupId": "0",
     "height": 20,
     "width": 20,
     "layerId": 1,
     "layerName": "Orthophoto 2023 (Voirie)"
    }
   ],
   "layerId": 1,
   "layerName": "Orthophoto 2023 (Voirie)",
   "serviceItemId": "5ad332d3eeaa4f28a63a6fd26211f01a"
  }
 ],
 "initialExtent": {
  "xmin": 639250.0000000095,
  "ymin": 6864100.000000924,
  "xmax": 643900.0000000091,
  "ymax": 6869150.0000009155,
  "spatialReference": {
   "wkid": 102110,
   "latestWkid": 2154
  }
 },
 "fullExtent": {
  "xmin": 639250.0000000095,
  "ymin": 6864100.000000924,
  "xmax": 643900.0000000091,
  "ymax": 6869150.0000009155,
  "spatialReference": {
   "wkid": 102110,
   "latestWkid": 2154
  }
 },
 "minScale": 8192000.0,
 "maxScale": 125.0,
 "exportTilesAllowed": false,
 "maxExportTilesCount": 0,
 "currentVersion": 10.91,
 "mapName": "Ortho_2023_Voirie",
 "singleFusedMapCache": true,
 "type": "MapServer",
 "supportedExtensions": "",
 "capabilities": "TilesOnly,Tilemap",
 "serviceItemId": "5ad332d3eeaa4f28a63a6fd26211f01a"
}
